BEGIN:VCALENDAR
VERSION:2.0
PRODID:-//Evansville Tonight//Event Calendar 1.0//EN
CALSCALE:GREGORIAN
METHOD:PUBLISH
X-WR-CALNAME:Open Mic Night at KC's
X-WR-TIMEZONE:America/Chicago
BEGIN:VTIMEZONE
TZID:America/Chicago
BEGIN:STANDARD
DTSTART:19701101T020000
RRULE:FREQ=YEARLY;BYMONTH=11;BYDAY=1SU
TZOFFSETFROM:-0500
TZOFFSETTO:-0600
TZNAME:CST
END:STANDARD
BEGIN:DAYLIGHT
DTSTART:19700308T020000
RRULE:FREQ=YEARLY;BYMONTH=3;BYDAY=2SU
TZOFFSETFROM:-0600
TZOFFSETTO:-0500
TZNAME:CDT
END:DAYLIGHT
END:VTIMEZONE
BEGIN:VEVENT
UID:kcs-open-mic-tue@evansville-tonight
DTSTAMP:20260420T104344Z
DTSTART;TZID=America/Chicago:20260421T200000
DTEND;TZID=America/Chicago:20260421T220000
SUMMARY:Open Mic Night at KC's
DESCRIPTION:Sign-up at 7:30\, first act at 8. Every Tuesday — come play\,
  come heckle kindly\, come get a beer.
LOCATION:KC's Timeout Lounge & Grill
URL:https://kcstimeout.com/
CATEGORIES:music,open-mic,bar,local,amateur
END:VEVENT
END:VCALENDAR